BEGIN:VCALENDAR
VERSION:2.0
PRODID:-//vahl.vet - ECPv6.15.20//NONSGML v1.0//EN
CALSCALE:GREGORIAN
METHOD:PUBLISH
X-WR-CALNAME:vahl.vet
X-ORIGINAL-URL:https://vahl.vet
X-WR-CALDESC:Veranstaltungen für vahl.vet
REFRESH-INTERVAL;VALUE=DURATION:PT1H
X-Robots-Tag:noindex
X-PUBLISHED-TTL:PT1H
BEGIN:VTIMEZONE
TZID:Europe/Berlin
BEGIN:DAYLIGHT
TZOFFSETFROM:+0100
TZOFFSETTO:+0200
TZNAME:CEST
DTSTART:20240331T010000
END:DAYLIGHT
BEGIN:STANDARD
TZOFFSETFROM:+0200
TZOFFSETTO:+0100
TZNAME:CET
DTSTART:20241027T010000
END:STANDARD
BEGIN:DAYLIGHT
TZOFFSETFROM:+0100
TZOFFSETTO:+0200
TZNAME:CEST
DTSTART:20250330T010000
END:DAYLIGHT
BEGIN:STANDARD
TZOFFSETFROM:+0200
TZOFFSETTO:+0100
TZNAME:CET
DTSTART:20251026T010000
END:STANDARD
BEGIN:DAYLIGHT
TZOFFSETFROM:+0100
TZOFFSETTO:+0200
TZNAME:CEST
DTSTART:20260329T010000
END:DAYLIGHT
BEGIN:STANDARD
TZOFFSETFROM:+0200
TZOFFSETTO:+0100
TZNAME:CET
DTSTART:20261025T010000
END:STANDARD
END:VTIMEZONE
BEGIN:VEVENT
DTSTART;TZID=Europe/Berlin:20251007T173000
DTEND;TZID=Europe/Berlin:20251007T181500
DTSTAMP:20260423T120023
CREATED:20250104T202919Z
LAST-MODIFIED:20250104T202920Z
UID:6435-1759858200-1759860900@vahl.vet
SUMMARY:Level-up with up to date readings
DESCRIPTION:Discover an updated list of readings useful for your training. \n\n\n\n \n\n\n\nLanguage: English \n\n\n\n\nSpeaker:   \n\n\n\nDr. Diane Grosjean \n\n\n\nDVM\, DECVSMR \n\n\n\nDiplomate of the European College of Veterinary Sports Medicine and Rehabilitation (DECVSMR) \n\n\n\nDE Cinésiologie\,Physiothérapie et réadaptation fonctionnelle \n\n\n\nDepartment of Morphology\, Medical imaging\, Orthopaedics\, Physiotherapy and Nutrition \n\n\n\nFaculty of Veterinary Medicine\, Ghent University
URL:https://vahl.vet/de/event/level-up-with-up-to-date-readings/
ATTACH;FMTTYPE=image/png:https://vahl.vet/wp-content/uploads/2024/09/Dr.-Diane-Grosjean.png
ORGANIZER;CN="VAHL":MAILTO:office@vahl-academy.com
END:VEVENT
BEGIN:VEVENT
DTSTART;TZID=Europe/Berlin:20251010T000000
DTEND;TZID=Europe/Berlin:20251013T235959
DTSTAMP:20260423T120023
CREATED:20241004T081254Z
LAST-MODIFIED:20241004T081255Z
UID:5512-1760054400-1760399999@vahl.vet
SUMMARY:CCRP - Mallorca
DESCRIPTION:
URL:https://vahl.vet/de/event/ccrp-mallorca/
CATEGORIES:CCRP
ATTACH;FMTTYPE=image/png:https://vahl.vet/wp-content/uploads/2024/07/CCRP_LOGO___web-e1752564116503.png
ORGANIZER;CN="VAHL":MAILTO:office@vahl-academy.com
END:VEVENT
END:VCALENDAR