BEGIN:VCALENDAR
VERSION:2.0
PRODID:-//vahl.vet - ECPv6.15.20//NONSGML v1.0//EN
CALSCALE:GREGORIAN
METHOD:PUBLISH
X-ORIGINAL-URL:https://vahl.vet
X-WR-CALDESC:Veranstaltungen für vahl.vet
REFRESH-INTERVAL;VALUE=DURATION:PT1H
X-Robots-Tag:noindex
X-PUBLISHED-TTL:PT1H
BEGIN:VTIMEZONE
TZID:Europe/Berlin
BEGIN:DAYLIGHT
TZOFFSETFROM:+0100
TZOFFSETTO:+0200
TZNAME:CEST
DTSTART:20240331T010000
END:DAYLIGHT
BEGIN:STANDARD
TZOFFSETFROM:+0200
TZOFFSETTO:+0100
TZNAME:CET
DTSTART:20241027T010000
END:STANDARD
BEGIN:DAYLIGHT
TZOFFSETFROM:+0100
TZOFFSETTO:+0200
TZNAME:CEST
DTSTART:20250330T010000
END:DAYLIGHT
BEGIN:STANDARD
TZOFFSETFROM:+0200
TZOFFSETTO:+0100
TZNAME:CET
DTSTART:20251026T010000
END:STANDARD
BEGIN:DAYLIGHT
TZOFFSETFROM:+0100
TZOFFSETTO:+0200
TZNAME:CEST
DTSTART:20260329T010000
END:DAYLIGHT
BEGIN:STANDARD
TZOFFSETFROM:+0200
TZOFFSETTO:+0100
TZNAME:CET
DTSTART:20261025T010000
END:STANDARD
END:VTIMEZONE
BEGIN:VEVENT
DTSTART;TZID=Europe/Berlin:20251109T000000
DTEND;TZID=Europe/Berlin:20251111T235900
DTSTAMP:20260423T155948
CREATED:20241004T083112Z
LAST-MODIFIED:20241004T083113Z
UID:5528-1762646400-1762905540@vahl.vet
SUMMARY:CCFT - Centurion
DESCRIPTION:
URL:https://vahl.vet/de/event/ccft-centurion/
CATEGORIES:CCFT
ATTACH;FMTTYPE=image/png:https://vahl.vet/wp-content/uploads/2024/07/CCFT-e1752563733622.png
ORGANIZER;CN="VAHL":MAILTO:office@vahl-academy.com
END:VEVENT
BEGIN:VEVENT
DTSTART;TZID=Europe/Berlin:20251112T000000
DTEND;TZID=Europe/Berlin:20251114T235959
DTSTAMP:20260423T155948
CREATED:20241004T082915Z
LAST-MODIFIED:20241004T082916Z
UID:5526-1762905600-1763164799@vahl.vet
SUMMARY:CCFT - Bangkok
DESCRIPTION:
URL:https://vahl.vet/de/event/ccft-bangkok/
CATEGORIES:CCFT
ATTACH;FMTTYPE=image/png:https://vahl.vet/wp-content/uploads/2024/07/CCFT-e1752563733622.png
ORGANIZER;CN="VAHL":MAILTO:office@vahl-academy.com
END:VEVENT
END:VCALENDAR